BEGIN:VCALENDAR
VERSION:2.0
PRODID:-//urwahl3000//gruene-inden.de//DE
CALSCALE:GREGORIAN
BEGIN:VEVENT
DTSTART:20250428T180000
DTEND:20250428T180000
LOCATION:Sportheim FC Inden/Altdorf Inden
DTSTAMP:20250428T180000
SUMMARY:Mitgliederversammlung
URL;VALUE=URI:https://gruene-inden.de/archive/termin/mitgliederversammlung
DESCRIPTION:<a href="https://gruene-inden.de/archive/3152">Einladung zur Mitgliederversammlung</a>
UID:20250428T180000-20250428T180000-20250428T180000
END:VEVENT
END:VCALENDAR